BEGIN:VCALENDAR
VERSION:2.0
PRODID:PASSEIO SÉNIOR 2026
X-WR-CALNAME:PASSEIO SÉNIOR 2026
X-WR-TIMEZONE:Europe/Lisbon
X-PUBLISHED-TTL:P1W
BEGIN:VTIMEZONE
TZID:Europe/Lisbon
X-LIC-LOCATION:Europe/Lisbon
END:VTIMEZONE
BEGIN:VEVENT
UID:69e76776c8fb3
DTSTART;VALUE=DATE:20260522
SEQUENCE:0
TRANSP:OPAQUE
DTEND;VALUE=DATE:20260523
SUMMARY:PASSEIO SÉNIOR 2026
CLASS:PUBLIC
DESCRIPTION:A Junta de Freguesia de Ovar promove mais uma edição do seu t
 radicional Passeio Sénior\, desta vez com destino à histórica cidade de
  Santo Tirso. No dia 22 de maio\, a freguesia ruma ao Mosteiro de São Ben
 to para um dia de convívio e descoberta cultural.Esta iniciativa é desti
 nada a todos os recenseados na freguesia com 65 ou mais anos de idade\, re
 forçando o compromisso da Junta na promoção de um envelhecimento ativo 
 e na valorização da nossa comunidade.Calendário de Inscrições:Datas: 
 27\, 28 e 29 de abril de 2026.Destinatários: Fregueses com idade igual ou
  superior a 65 anos.Local de inscrição: Junta de Freguesia de Ovar.
X-MICROSOFT-CDO-ALLDAYEVENT:TRUE
DTSTAMP:20260421T120302Z
END:VEVENT
END:VCALENDAR